Package: nnSVG Version: 1.8.0 Command: E:\biocbuild\bbs-3.19-bioc\R\bin\R.exe CMD check --no-multiarch --install=check:nnSVG.install-out.txt --library=E:\biocbuild\bbs-3.19-bioc\R\library --no-vignettes --timings nnSVG_1.8.0.tar.gz StartedAt: 2024-10-17 03:59:51 -0400 (Thu, 17 Oct 2024) EndedAt: 2024-10-17 04:08:14 -0400 (Thu, 17 Oct 2024) EllapsedTime: 502.5 seconds RetCode: 0 Status: OK CheckDir: nnSVG.Rcheck Warnings: 0