Package: nnSVG Version: 1.8.0 Command: chmod a+r nnSVG -R && E:\biocbuild\bbs-3.19-bioc\R\bin\R.exe CMD build --keep-empty-dirs --no-resave-data nnSVG StartedAt: 2024-10-16 20:43:25 -0400 (Wed, 16 Oct 2024) EndedAt: 2024-10-16 20:55:20 -0400 (Wed, 16 Oct 2024) EllapsedTime: 714.8 seconds RetCode: 0 Status: OK PackageFile: nnSVG_1.8.0.tar.gz PackageFileSize: 451.9 KiB