Package: nnSVG Version: 1.8.0 Command: rm -rf nnSVG.buildbin-libdir && mkdir nnSVG.buildbin-libdir && E:\biocbuild\bbs-3.19-bioc\R\bin\R.exe CMD INSTALL --build --library=nnSVG.buildbin-libdir nnSVG_1.8.0.tar.gz StartedAt: 2024-10-17 08:16:03 -0400 (Thu, 17 Oct 2024) EndedAt: 2024-10-17 08:16:29 -0400 (Thu, 17 Oct 2024) EllapsedTime: 25.5 seconds RetCode: 0 Status: OK PackageFile: nnSVG_1.8.0.zip PackageFileSize: 467.4 KiB