Package: nnSVG Version: 1.8.0 Command: /Library/Frameworks/R.framework/Resources/bin/R CMD INSTALL nnSVG StartedAt: 2024-10-16 15:29:51 -0400 (Wed, 16 Oct 2024) EndedAt: 2024-10-16 15:30:49 -0400 (Wed, 16 Oct 2024) EllapsedTime: 58.4 seconds RetCode: 0 Status: OK