Package: nnSVG Version: 1.8.0 Command: /Library/Frameworks/R.framework/Resources/bin/R CMD check --install=check:nnSVG.install-out.txt --library=/Library/Frameworks/R.framework/Resources/library --no-vignettes --timings nnSVG_1.8.0.tar.gz StartedAt: 2024-10-17 10:05:01 -0400 (Thu, 17 Oct 2024) EndedAt: 2024-10-17 10:19:39 -0400 (Thu, 17 Oct 2024) EllapsedTime: 878.8 seconds RetCode: 0 Status: OK CheckDir: nnSVG.Rcheck Warnings: 0