Package: nnSVG Version: 1.8.0 Command: /Library/Frameworks/R.framework/Resources/bin/R CMD build --keep-empty-dirs --no-resave-data nnSVG StartedAt: 2024-10-16 21:36:32 -0400 (Wed, 16 Oct 2024) EndedAt: 2024-10-16 21:49:46 -0400 (Wed, 16 Oct 2024) EllapsedTime: 794.0 seconds RetCode: 0 Status: OK PackageFile: nnSVG_1.8.0.tar.gz PackageFileSize: 1.517 MiB