Package: nnSVG Version: 1.8.0 Command: /Library/Frameworks/R.framework/Resources/bin/R CMD build --keep-empty-dirs --no-resave-data nnSVG StartedAt: 2024-06-09 17:31:51 -0400 (Sun, 09 Jun 2024) EndedAt: 2024-06-09 17:39:27 -0400 (Sun, 09 Jun 2024) EllapsedTime: 455.2 seconds RetCode: 0 Status: OK PackageFile: nnSVG_1.8.0.tar.gz PackageFileSize: 1.517 MiB