Package: nnSVG Version: 1.8.0 Command: rm -rf nnSVG.buildbin-libdir && mkdir nnSVG.buildbin-libdir && /Users/biocbuild/BBS/utils/build-universal.sh nnSVG_1.8.0.tar.gz /Library/Frameworks/R.framework/Resources/bin/R nnSVG.buildbin-libdir StartedAt: 2024-06-10 00:30:04 -0400 (Mon, 10 Jun 2024) EndedAt: 2024-06-10 00:30:37 -0400 (Mon, 10 Jun 2024) EllapsedTime: 32.9 seconds RetCode: 0 Status: OK PackageFile: nnSVG_1.8.0.tgz PackageFileSize: 1.53 MiB