Package: nnSVG Version: 1.7.4 Command: /home/biocbuild/R/R-beta-2024-04-15_r86425/bin/R CMD check --install=check:nnSVG.install-out.txt --library=/home/biocbuild/R/R-beta-2024-04-15_r86425/site-library --no-vignettes --timings nnSVG_1.7.4.tar.gz StartedAt: 2024-04-29 08:41:17 -0000 (Mon, 29 Apr 2024) EndedAt: 2024-04-29 08:51:00 -0000 (Mon, 29 Apr 2024) EllapsedTime: 583.1 seconds RetCode: 0 Status: OK CheckDir: nnSVG.Rcheck Warnings: 0