Package: nnSVG Version: 1.8.0 Command: /Library/Frameworks/R.framework/Resources/bin/R CMD INSTALL nnSVG StartedAt: 2024-10-16 16:29:36 -0400 (Wed, 16 Oct 2024) EndedAt: 2024-10-16 16:30:04 -0400 (Wed, 16 Oct 2024) EllapsedTime: 27.3 seconds RetCode: 0 Status: OK