Package: nnSVG Version: 1.8.0 Command: /Library/Frameworks/R.framework/Resources/bin/R CMD check --install=check:nnSVG.install-out.txt --library=/Library/Frameworks/R.framework/Resources/library --no-vignettes --timings nnSVG_1.8.0.tar.gz StartedAt: 2024-10-18 06:04:04 -0400 (Fri, 18 Oct 2024) EndedAt: 2024-10-18 06:12:09 -0400 (Fri, 18 Oct 2024) EllapsedTime: 485.5 seconds RetCode: 0 Status: OK CheckDir: nnSVG.Rcheck Warnings: 0