Package: nnSVG Version: 1.8.0 Command: rm -rf nnSVG.buildbin-libdir && mkdir nnSVG.buildbin-libdir && /Users/biocbuild/BBS/utils/build-universal.sh nnSVG_1.8.0.tar.gz /Library/Frameworks/R.framework/Resources/bin/R nnSVG.buildbin-libdir StartedAt: 2024-10-18 19:46:02 -0400 (Fri, 18 Oct 2024) EndedAt: 2024-10-18 19:46:37 -0400 (Fri, 18 Oct 2024) EllapsedTime: 35.4 seconds RetCode: 0 Status: OK PackageFile: nnSVG_1.8.0.tgz PackageFileSize: 1.53 MiB