Package: nnNorm Version: 2.68.0 Command: E:\biocbuild\bbs-3.19-bioc\R\bin\R.exe CMD INSTALL nnNorm StartedAt: 2024-10-16 16:06:21 -0400 (Wed, 16 Oct 2024) EndedAt: 2024-10-16 16:06:33 -0400 (Wed, 16 Oct 2024) EllapsedTime: 11.7 seconds RetCode: 0 Status: OK