Package: nnNorm Version: 2.68.0 Command: chmod a+r nnNorm -R && E:\biocbuild\bbs-3.19-bioc\R\bin\R.exe CMD build --keep-empty-dirs --no-resave-data nnNorm StartedAt: 2024-10-16 20:43:21 -0400 (Wed, 16 Oct 2024) EndedAt: 2024-10-16 20:44:31 -0400 (Wed, 16 Oct 2024) EllapsedTime: 69.7 seconds RetCode: 0 Status: OK PackageFile: nnNorm_2.68.0.tar.gz PackageFileSize: 1.495 MiB