Package: nnNorm Version: 2.68.0 Command: rm -rf nnNorm.buildbin-libdir && mkdir nnNorm.buildbin-libdir && /Users/biocbuild/BBS/utils/build-universal.sh nnNorm_2.68.0.tar.gz /Library/Frameworks/R.framework/Resources/bin/R nnNorm.buildbin-libdir StartedAt: 2024-06-10 00:30:01 -0400 (Mon, 10 Jun 2024) EndedAt: 2024-06-10 00:30:07 -0400 (Mon, 10 Jun 2024) EllapsedTime: 5.7 seconds RetCode: 0 Status: OK PackageFile: nnNorm_2.68.0.tgz PackageFileSize: 194.9 KiB