Package: nnNorm Version: 2.68.0 Command: rm -rf nnNorm.buildbin-libdir && mkdir nnNorm.buildbin-libdir && /Users/biocbuild/BBS/utils/build-universal.sh nnNorm_2.68.0.tar.gz /Library/Frameworks/R.framework/Resources/bin/R nnNorm.buildbin-libdir StartedAt: 2024-06-11 12:20:28 -0400 (Tue, 11 Jun 2024) EndedAt: 2024-06-11 12:20:37 -0400 (Tue, 11 Jun 2024) EllapsedTime: 9.0 seconds RetCode: 0 Status: OK PackageFile: nnNorm_2.68.0.tgz PackageFileSize: 195.4 KiB