Package: nnNorm Version: 2.68.0 Command: /Library/Frameworks/R.framework/Resources/bin/R CMD check --install=check:nnNorm.install-out.txt --library=/Library/Frameworks/R.framework/Resources/library --no-vignettes --timings nnNorm_2.68.0.tar.gz StartedAt: 2024-10-18 06:03:49 -0400 (Fri, 18 Oct 2024) EndedAt: 2024-10-18 06:05:33 -0400 (Fri, 18 Oct 2024) EllapsedTime: 103.6 seconds RetCode: 0 Status: OK CheckDir: nnNorm.Rcheck Warnings: 0