Package: nnNorm Version: 2.68.0 Command: /Library/Frameworks/R.framework/Resources/bin/R CMD build --keep-empty-dirs --no-resave-data nnNorm StartedAt: 2024-10-17 05:40:36 -0400 (Thu, 17 Oct 2024) EndedAt: 2024-10-17 05:41:30 -0400 (Thu, 17 Oct 2024) EllapsedTime: 54.1 seconds RetCode: 0 Status: OK PackageFile: nnNorm_2.68.0.tar.gz PackageFileSize: 1.59 MiB