Package: nipalsMCIA Version: 1.2.1 Command: E:\biocbuild\bbs-3.19-bioc\R\bin\R.exe CMD INSTALL nipalsMCIA StartedAt: 2024-10-16 16:55:59 -0400 (Wed, 16 Oct 2024) EndedAt: 2024-10-16 16:56:43 -0400 (Wed, 16 Oct 2024) EllapsedTime: 44.8 seconds RetCode: 0 Status: OK