Package: nipalsMCIA Version: 1.2.1 Command: rm -rf nipalsMCIA.buildbin-libdir && mkdir nipalsMCIA.buildbin-libdir && E:\biocbuild\bbs-3.19-bioc\R\bin\R.exe CMD INSTALL --build --library=nipalsMCIA.buildbin-libdir nipalsMCIA_1.2.1.tar.gz StartedAt: 2024-10-17 08:15:56 -0400 (Thu, 17 Oct 2024) EndedAt: 2024-10-17 08:16:43 -0400 (Thu, 17 Oct 2024) EllapsedTime: 46.4 seconds RetCode: 0 Status: OK PackageFile: nipalsMCIA_1.2.1.zip PackageFileSize: 3.41 MiB