Package: nipalsMCIA Version: 1.2.0 Command: chmod a+r nipalsMCIA -R && F:\biocbuild\bbs-3.19-bioc\R\bin\R.exe CMD build --keep-empty-dirs --no-resave-data nipalsMCIA StartedAt: 2024-06-26 20:30:19 -0400 (Wed, 26 Jun 2024) EndedAt: 2024-06-26 20:41:30 -0400 (Wed, 26 Jun 2024) EllapsedTime: 670.5 seconds RetCode: 0 Status: OK PackageFile: nipalsMCIA_1.2.0.tar.gz PackageFileSize: 3.524 MiB