Package: nipalsMCIA Version: 1.2.0 Command: rm -rf nipalsMCIA.buildbin-libdir && mkdir nipalsMCIA.buildbin-libdir && F:\biocbuild\bbs-3.19-bioc\R\bin\R.exe CMD INSTALL --build --library=nipalsMCIA.buildbin-libdir nipalsMCIA_1.2.0.tar.gz StartedAt: 2024-06-27 08:36:06 -0400 (Thu, 27 Jun 2024) EndedAt: 2024-06-27 08:36:45 -0400 (Thu, 27 Jun 2024) EllapsedTime: 39.3 seconds RetCode: 0 Status: OK PackageFile: nipalsMCIA_1.2.0.zip PackageFileSize: 3.756 MiB