Package: nipalsMCIA Version: 1.2.1 Command: /Library/Frameworks/R.framework/Resources/bin/R CMD INSTALL nipalsMCIA StartedAt: 2024-10-16 16:14:55 -0400 (Wed, 16 Oct 2024) EndedAt: 2024-10-16 16:15:56 -0400 (Wed, 16 Oct 2024) EllapsedTime: 60.5 seconds RetCode: 0 Status: OK