Package: nipalsMCIA Version: 1.2.1 Command: /Library/Frameworks/R.framework/Resources/bin/R CMD build --keep-empty-dirs --no-resave-data nipalsMCIA StartedAt: 2024-10-16 21:36:25 -0400 (Wed, 16 Oct 2024) EndedAt: 2024-10-16 21:44:30 -0400 (Wed, 16 Oct 2024) EllapsedTime: 484.7 seconds RetCode: 0 Status: OK PackageFile: nipalsMCIA_1.2.1.tar.gz PackageFileSize: 4.138 MiB