Package: nipalsMCIA Version: 1.2.0 Command: /home/biocbuild/R/R-beta-2024-04-15_r86425/bin/R CMD build --keep-empty-dirs --no-resave-data nipalsMCIA StartedAt: 2024-05-09 02:08:16 -0000 (Thu, 09 May 2024) EndedAt: 2024-05-09 02:12:55 -0000 (Thu, 09 May 2024) EllapsedTime: 278.5 seconds RetCode: 0 Status: OK PackageFile: nipalsMCIA_1.2.0.tar.gz PackageFileSize: 3.676 MiB