Package: nipalsMCIA Version: 1.2.1 Command: /Library/Frameworks/R.framework/Resources/bin/R CMD check --install=check:nipalsMCIA.install-out.txt --library=/Library/Frameworks/R.framework/Resources/library --no-vignettes --timings nipalsMCIA_1.2.1.tar.gz StartedAt: 2024-10-18 06:00:21 -0400 (Fri, 18 Oct 2024) EndedAt: 2024-10-18 06:06:14 -0400 (Fri, 18 Oct 2024) EllapsedTime: 352.7 seconds RetCode: 0 Status: OK CheckDir: nipalsMCIA.Rcheck Warnings: 0