Package: ngsReports Version: 2.6.1 Command: chmod a+r ngsReports -R && E:\biocbuild\bbs-3.19-bioc\R\bin\R.exe CMD build --keep-empty-dirs --no-resave-data ngsReports StartedAt: 2024-10-16 20:43:13 -0400 (Wed, 16 Oct 2024) EndedAt: 2024-10-16 20:44:37 -0400 (Wed, 16 Oct 2024) EllapsedTime: 83.6 seconds RetCode: 0 Status: OK PackageFile: ngsReports_2.6.1.tar.gz PackageFileSize: 1.602 MiB