Package: ngsReports Version: 2.6.1 Command: rm -rf ngsReports.buildbin-libdir && mkdir ngsReports.buildbin-libdir && E:\biocbuild\bbs-3.19-bioc\R\bin\R.exe CMD INSTALL --build --library=ngsReports.buildbin-libdir ngsReports_2.6.1.tar.gz StartedAt: 2024-10-17 08:15:55 -0400 (Thu, 17 Oct 2024) EndedAt: 2024-10-17 08:17:14 -0400 (Thu, 17 Oct 2024) EllapsedTime: 79.4 seconds RetCode: 0 Status: OK PackageFile: ngsReports_2.6.1.zip PackageFileSize: 2.219 MiB