Package: ngsReports Version: 2.6.1 Command: /Library/Frameworks/R.framework/Resources/bin/R CMD INSTALL ngsReports StartedAt: 2024-10-16 16:03:03 -0400 (Wed, 16 Oct 2024) EndedAt: 2024-10-16 16:03:51 -0400 (Wed, 16 Oct 2024) EllapsedTime: 48.2 seconds RetCode: 0 Status: OK