Package: ngsReports Version: 2.6.1 Command: /Library/Frameworks/R.framework/Resources/bin/R CMD build --keep-empty-dirs --no-resave-data ngsReports StartedAt: 2024-10-16 21:35:57 -0400 (Wed, 16 Oct 2024) EndedAt: 2024-10-16 21:38:47 -0400 (Wed, 16 Oct 2024) EllapsedTime: 170.2 seconds RetCode: 0 Status: OK PackageFile: ngsReports_2.6.1.tar.gz PackageFileSize: 3.188 MiB