Package: ngsReports Version: 2.6.0 Command: /Library/Frameworks/R.framework/Resources/bin/R CMD build --keep-empty-dirs --no-resave-data ngsReports StartedAt: 2024-06-10 01:43:58 -0400 (Mon, 10 Jun 2024) EndedAt: 2024-06-10 01:45:55 -0400 (Mon, 10 Jun 2024) EllapsedTime: 117.6 seconds RetCode: 0 Status: OK PackageFile: ngsReports_2.6.0.tar.gz PackageFileSize: 3.19 MiB