Package: netresponse Version: 1.64.0 Command: chmod a+r netresponse -R && E:\biocbuild\bbs-3.19-bioc\R\bin\R.exe CMD build --keep-empty-dirs --no-resave-data netresponse StartedAt: 2024-10-16 20:42:58 -0400 (Wed, 16 Oct 2024) EndedAt: 2024-10-16 20:43:44 -0400 (Wed, 16 Oct 2024) EllapsedTime: 45.8 seconds RetCode: 0 Status: OK PackageFile: netresponse_1.64.0.tar.gz PackageFileSize: 975.6 KiB