Package: netresponse Version: 1.64.0 Command: F:\biocbuild\bbs-3.19-bioc\R\bin\R.exe CMD INSTALL netresponse StartedAt: 2024-06-26 16:46:48 -0400 (Wed, 26 Jun 2024) EndedAt: 2024-06-26 16:47:13 -0400 (Wed, 26 Jun 2024) EllapsedTime: 24.6 seconds RetCode: 0 Status: OK