Package: netresponse Version: 1.64.0 Command: rm -rf netresponse.buildbin-libdir && mkdir netresponse.buildbin-libdir && F:\biocbuild\bbs-3.19-bioc\R\bin\R.exe CMD INSTALL --build --library=netresponse.buildbin-libdir netresponse_1.64.0.tar.gz StartedAt: 2024-06-27 08:35:49 -0400 (Thu, 27 Jun 2024) EndedAt: 2024-06-27 08:36:12 -0400 (Thu, 27 Jun 2024) EllapsedTime: 23.4 seconds RetCode: 0 Status: OK PackageFile: netresponse_1.64.0.zip PackageFileSize: 1.296 MiB