Package: netresponse Version: 1.64.0 Command: /home/biocbuild/bbs-3.19-bioc/R/bin/R CMD check --install=check:netresponse.install-out.txt --library=/home/biocbuild/bbs-3.19-bioc/R/site-library --timings netresponse_1.64.0.tar.gz StartedAt: 2024-10-17 03:04:31 -0400 (Thu, 17 Oct 2024) EndedAt: 2024-10-17 03:05:48 -0400 (Thu, 17 Oct 2024) EllapsedTime: 76.1 seconds RetCode: 0 Status: OK CheckDir: netresponse.Rcheck Warnings: 0