Package: netresponse Version: 1.64.0 Command: rm -rf netresponse.buildbin-libdir && mkdir netresponse.buildbin-libdir && /Users/biocbuild/BBS/utils/build-universal.sh netresponse_1.64.0.tar.gz /Library/Frameworks/R.framework/Resources/bin/R netresponse.buildbin-libdir StartedAt: 2024-06-10 00:29:51 -0400 (Mon, 10 Jun 2024) EndedAt: 2024-06-10 00:30:09 -0400 (Mon, 10 Jun 2024) EllapsedTime: 18.2 seconds RetCode: 0 Status: OK PackageFile: netresponse_1.64.0.tgz PackageFileSize: 1.294 MiB