Package: netresponse Version: 1.64.0 Command: /Library/Frameworks/R.framework/Resources/bin/R CMD INSTALL netresponse StartedAt: 2024-10-16 18:38:01 -0400 (Wed, 16 Oct 2024) EndedAt: 2024-10-16 18:38:13 -0400 (Wed, 16 Oct 2024) EllapsedTime: 12.8 seconds RetCode: 0 Status: OK