Package: netprioR Version: 1.30.0 Command: F:\biocbuild\bbs-3.19-bioc\R\bin\R.exe CMD check --no-multiarch --install=check:netprioR.install-out.txt --library=F:\biocbuild\bbs-3.19-bioc\R\library --no-vignettes --timings netprioR_1.30.0.tar.gz StartedAt: 2024-06-27 04:12:25 -0400 (Thu, 27 Jun 2024) EndedAt: 2024-06-27 04:14:02 -0400 (Thu, 27 Jun 2024) EllapsedTime: 96.6 seconds RetCode: 0 Status: OK CheckDir: netprioR.Rcheck Warnings: 0