Package: nethet Version: 1.36.0 Command: /Library/Frameworks/R.framework/Resources/bin/R CMD check --install=check:nethet.install-out.txt --library=/Library/Frameworks/R.framework/Resources/library --no-vignettes --timings nethet_1.36.0.tar.gz StartedAt: 2024-10-18 05:56:26 -0400 (Fri, 18 Oct 2024) EndedAt: 2024-10-18 06:00:21 -0400 (Fri, 18 Oct 2024) EllapsedTime: 235.5 seconds RetCode: 0 Status: WARNINGS CheckDir: nethet.Rcheck Warnings: 1