Package: netboost Version: 2.12.0 Command: /Library/Frameworks/R.framework/Resources/bin/R CMD build --keep-empty-dirs --no-resave-data netboost StartedAt: 2024-10-16 21:34:07 -0400 (Wed, 16 Oct 2024) EndedAt: 2024-10-16 21:37:10 -0400 (Wed, 16 Oct 2024) EllapsedTime: 182.8 seconds RetCode: 0 Status: OK PackageFile: netboost_2.12.0.tar.gz PackageFileSize: 1.132 MiB