Package: netboost Version: 2.12.0 Command: rm -rf netboost.buildbin-libdir && mkdir netboost.buildbin-libdir && /Users/biocbuild/BBS/utils/build-universal.sh netboost_2.12.0.tar.gz /Library/Frameworks/R.framework/Resources/bin/R netboost.buildbin-libdir StartedAt: 2024-06-10 00:29:48 -0400 (Mon, 10 Jun 2024) EndedAt: 2024-06-10 00:31:14 -0400 (Mon, 10 Jun 2024) EllapsedTime: 86.3 seconds RetCode: 0 Status: OK PackageFile: netboost_2.12.0.tgz PackageFileSize: 1.128 MiB