Package: netboost Version: 2.12.0 Command: /home/biocbuild/R/R-beta-2024-04-15_r86425/bin/R CMD check --install=check:netboost.install-out.txt --library=/home/biocbuild/R/R-beta-2024-04-15_r86425/site-library --no-vignettes --timings netboost_2.12.0.tar.gz StartedAt: 2024-05-09 10:02:15 -0000 (Thu, 09 May 2024) EndedAt: 2024-05-09 10:06:46 -0000 (Thu, 09 May 2024) EllapsedTime: 271.4 seconds RetCode: 0 Status: WARNINGS CheckDir: netboost.Rcheck Warnings: 1