Package: netboost Version: 2.12.0 Command: /Library/Frameworks/R.framework/Resources/bin/R CMD INSTALL netboost StartedAt: 2024-10-16 17:48:15 -0400 (Wed, 16 Oct 2024) EndedAt: 2024-10-16 17:49:09 -0400 (Wed, 16 Oct 2024) EllapsedTime: 54.0 seconds RetCode: 0 Status: OK