Package: netboost Version: 2.12.0 Command: /Library/Frameworks/R.framework/Resources/bin/R CMD check --install=check:netboost.install-out.txt --library=/Library/Frameworks/R.framework/Resources/library --no-vignettes --timings netboost_2.12.0.tar.gz StartedAt: 2024-10-18 05:55:52 -0400 (Fri, 18 Oct 2024) EndedAt: 2024-10-18 05:59:37 -0400 (Fri, 18 Oct 2024) EllapsedTime: 225.2 seconds RetCode: 0 Status: WARNINGS CheckDir: netboost.Rcheck Warnings: 1