Package: netboost Version: 2.12.0 Command: /Library/Frameworks/R.framework/Resources/bin/R CMD build --keep-empty-dirs --no-resave-data netboost StartedAt: 2024-10-17 05:34:11 -0400 (Thu, 17 Oct 2024) EndedAt: 2024-10-17 05:35:28 -0400 (Thu, 17 Oct 2024) EllapsedTime: 77.9 seconds RetCode: 0 Status: OK PackageFile: netboost_2.12.0.tar.gz PackageFileSize: 1.132 MiB