Package: netboost Version: 2.12.0 Maintainer: Pascal Schlosser MaintainerEmail: pascal.schlosser at uniklinik-freiburg.de git_url: https://git.bioconductor.org/packages/netboost git_branch: RELEASE_3_19 git_last_commit: 2cb56d4 git_last_commit_date: 2024-04-30 11:15:02 -0400 (Tue, 30 Apr 2024)