Package: netZooR Version: 1.8.0 Command: chmod a+r netZooR -R && E:\biocbuild\bbs-3.19-bioc\R\bin\R.exe CMD build --keep-empty-dirs --no-resave-data netZooR StartedAt: 2024-10-16 20:43:02 -0400 (Wed, 16 Oct 2024) EndedAt: 2024-10-16 20:45:05 -0400 (Wed, 16 Oct 2024) EllapsedTime: 123.0 seconds RetCode: 0 Status: OK PackageFile: netZooR_1.8.0.tar.gz PackageFileSize: 2.991 MiB