Package: netZooR Version: 1.8.0 Command: rm -rf netZooR.buildbin-libdir && mkdir netZooR.buildbin-libdir && E:\biocbuild\bbs-3.19-bioc\R\bin\R.exe CMD INSTALL --build --library=netZooR.buildbin-libdir netZooR_1.8.0.tar.gz StartedAt: 2024-10-17 08:15:44 -0400 (Thu, 17 Oct 2024) EndedAt: 2024-10-17 08:17:17 -0400 (Thu, 17 Oct 2024) EllapsedTime: 93.0 seconds RetCode: 0 Status: OK PackageFile: netZooR_1.8.0.zip PackageFileSize: 3.601 MiB