Package: netZooR Version: 1.8.0 Command: /home/biocbuild/bbs-3.19-bioc/R/bin/R CMD build --keep-empty-dirs --no-resave-data netZooR StartedAt: 2024-10-16 19:47:32 -0400 (Wed, 16 Oct 2024) EndedAt: 2024-10-16 19:49:32 -0400 (Wed, 16 Oct 2024) EllapsedTime: 120.3 seconds RetCode: 0 Status: OK PackageFile: netZooR_1.8.0.tar.gz PackageFileSize: 3.051 MiB