Package: netZooR Version: 1.8.0 Command: /Library/Frameworks/R.framework/Resources/bin/R CMD build --keep-empty-dirs --no-resave-data netZooR StartedAt: 2024-06-09 17:31:25 -0400 (Sun, 09 Jun 2024) EndedAt: 2024-06-09 17:33:22 -0400 (Sun, 09 Jun 2024) EllapsedTime: 117.3 seconds RetCode: 0 Status: OK PackageFile: netZooR_1.8.0.tar.gz PackageFileSize: 3.111 MiB